BEGIN:VCALENDAR
VERSION:2.0
PRODID:-//Visit Southern West Virginia - ECPv6.15.13//NONSGML v1.0//EN
CALSCALE:GREGORIAN
METHOD:PUBLISH
X-WR-CALNAME:Visit Southern West Virginia
X-ORIGINAL-URL:https://visitwv.com
X-WR-CALDESC:Events for Visit Southern West Virginia
REFRESH-INTERVAL;VALUE=DURATION:PT1H
X-Robots-Tag:noindex
X-PUBLISHED-TTL:PT1H
BEGIN:VTIMEZONE
TZID:America/New_York
BEGIN:DAYLIGHT
TZOFFSETFROM:-0500
TZOFFSETTO:-0400
TZNAME:EDT
DTSTART:20170312T070000
END:DAYLIGHT
BEGIN:STANDARD
TZOFFSETFROM:-0400
TZOFFSETTO:-0500
TZNAME:EST
DTSTART:20171105T060000
END:STANDARD
BEGIN:DAYLIGHT
TZOFFSETFROM:-0500
TZOFFSETTO:-0400
TZNAME:EDT
DTSTART:20180311T070000
END:DAYLIGHT
BEGIN:STANDARD
TZOFFSETFROM:-0400
TZOFFSETTO:-0500
TZNAME:EST
DTSTART:20181104T060000
END:STANDARD
BEGIN:DAYLIGHT
TZOFFSETFROM:-0500
TZOFFSETTO:-0400
TZNAME:EDT
DTSTART:20190310T070000
END:DAYLIGHT
BEGIN:STANDARD
TZOFFSETFROM:-0400
TZOFFSETTO:-0500
TZNAME:EST
DTSTART:20191103T060000
END:STANDARD
BEGIN:DAYLIGHT
TZOFFSETFROM:-0500
TZOFFSETTO:-0400
TZNAME:EDT
DTSTART:20200308T070000
END:DAYLIGHT
BEGIN:STANDARD
TZOFFSETFROM:-0400
TZOFFSETTO:-0500
TZNAME:EST
DTSTART:20201101T060000
END:STANDARD
BEGIN:DAYLIGHT
TZOFFSETFROM:-0500
TZOFFSETTO:-0400
TZNAME:EDT
DTSTART:20210314T070000
END:DAYLIGHT
BEGIN:STANDARD
TZOFFSETFROM:-0400
TZOFFSETTO:-0500
TZNAME:EST
DTSTART:20211107T060000
END:STANDARD
BEGIN:DAYLIGHT
TZOFFSETFROM:-0500
TZOFFSETTO:-0400
TZNAME:EDT
DTSTART:20220313T070000
END:DAYLIGHT
BEGIN:STANDARD
TZOFFSETFROM:-0400
TZOFFSETTO:-0500
TZNAME:EST
DTSTART:20221106T060000
END:STANDARD
BEGIN:DAYLIGHT
TZOFFSETFROM:-0500
TZOFFSETTO:-0400
TZNAME:EDT
DTSTART:20230312T070000
END:DAYLIGHT
BEGIN:STANDARD
TZOFFSETFROM:-0400
TZOFFSETTO:-0500
TZNAME:EST
DTSTART:20231105T060000
END:STANDARD
BEGIN:DAYLIGHT
TZOFFSETFROM:-0500
TZOFFSETTO:-0400
TZNAME:EDT
DTSTART:20240310T070000
END:DAYLIGHT
BEGIN:STANDARD
TZOFFSETFROM:-0400
TZOFFSETTO:-0500
TZNAME:EST
DTSTART:20241103T060000
END:STANDARD
BEGIN:DAYLIGHT
TZOFFSETFROM:-0500
TZOFFSETTO:-0400
TZNAME:EDT
DTSTART:20250309T070000
END:DAYLIGHT
BEGIN:STANDARD
TZOFFSETFROM:-0400
TZOFFSETTO:-0500
TZNAME:EST
DTSTART:20251102T060000
END:STANDARD
BEGIN:DAYLIGHT
TZOFFSETFROM:-0500
TZOFFSETTO:-0400
TZNAME:EDT
DTSTART:20260308T070000
END:DAYLIGHT
BEGIN:STANDARD
TZOFFSETFROM:-0400
TZOFFSETTO:-0500
TZNAME:EST
DTSTART:20261101T060000
END:STANDARD
END:VTIMEZONE
BEGIN:VEVENT
DTSTART;TZID=America/New_York:20251003T080000
DTEND;TZID=America/New_York:20251005T170000
DTSTAMP:20260420T060632
CREATED:20250210T135709Z
LAST-MODIFIED:20250808T163149Z
UID:10016974-1759478400-1759683600@visitwv.com
SUMMARY:WV Off Grid Living & Homesteading Expo
DESCRIPTION:The WV Off Grid Living\, Homesteading\, and Self-Reliance Expo will show case anything associated with off grid living…Everything from meat rabbits to goat cheese\, solar powered water pumps to honeybees\, hunting\, fishing\, tactical gear\, prepping and survival supplies and equipment\, and much more! This event will showcase the “forgotten ways” of Appalachian heritage and will have something for everyone.Guest Experts like The Lunatic Farmer (Joel Salatin)\, Naked & Afraid Star (EJ Snyder)\, The Herbalist Weed Wife (Barbara Volk)\, and much more! Food trucks\, overland vehicles\, and more fun that you can shake a hiking stick at!
URL:https://visitwv.com/event/wv-off-grid-living-homesteading-expo/
LOCATION:WV State Fairgrounds\, Fairlea\, WV\, USA\, Fairlea\, West Virginia\, United States
CATEGORIES:Greenbrier
GEO:37.7806769;-80.4570191
X-APPLE-STRUCTURED-LOCATION;VALUE=URI;X-ADDRESS=WV State Fairgrounds Fairlea WV USA Fairlea West Virginia United States;X-APPLE-RADIUS=500;X-TITLE=Fairlea\, WV\, USA:geo:-80.4570191,37.7806769
END:VEVENT
BEGIN:VEVENT
DTSTART;TZID=America/New_York:20220916T080000
DTEND;TZID=America/New_York:20220917T180000
DTSTAMP:20260420T060632
CREATED:20241015T171236Z
LAST-MODIFIED:20241015T171236Z
UID:10015749-1663315200-1663437600@visitwv.com
SUMMARY:The Giant Fall Flea Market
DESCRIPTION:The annual event showcases over two hundred indoor & outdoor vendors selling antiques\, collectibles\, crafts\, new & used merchandise.  Visit the Flea Market from 8 am to 6 pm on Friday & Saturday. \n\nBe sure to stop by to get some delicious treats from \nBen Ellen Donuts\nThe Fry Station\nThe Green Parrot\nDippin Dots\n\n\nAll patrons must park in the free lot and walk through the tunnel
URL:https://visitwv.com/event/the-giant-fall-flea-market/
LOCATION:WV State Fairgrounds\, Fairlea\, WV\, USA\, Fairlea\, West Virginia\, United States
GEO:37.7806769;-80.4570191
X-APPLE-STRUCTURED-LOCATION;VALUE=URI;X-ADDRESS=WV State Fairgrounds Fairlea WV USA Fairlea West Virginia United States;X-APPLE-RADIUS=500;X-TITLE=Fairlea\, WV\, USA:geo:-80.4570191,37.7806769
END:VEVENT
BEGIN:VEVENT
DTSTART;TZID=America/New_York:20220423T130000
DTEND;TZID=America/New_York:20220423T200000
DTSTAMP:20260420T060632
CREATED:20241015T170518Z
LAST-MODIFIED:20241015T170518Z
UID:10015522-1650718800-1650744000@visitwv.com
SUMMARY:Almost Summer\, In Almost Heaven Car Show
DESCRIPTION:Join the State Fair of West Virginia for our First Annual Almost Summer\, in Almost Heaven event set for April 23\, 2022 from 1-8pm at the fairgrounds in Lewisburg\, WV. Tickets sold day of event – $5 for those 11 and up\, 10 and under can attend for free.\nThe event will include a car show\, live entertainment*\, cornhole and disc golf tournaments\, fair food\, and shopping! Stay tuned for more info! \nThe State Fair of West Virginia is celebrating the soon-to-be warmer weather this Saturday with “Almost Summer in Almost Heaven\,” a new family-friendly celebration at the State Fairgrounds in Lewisburg. \n*Live entertainment throughout the day includes Seldom Free\, Element of Us\, The Half Bad Bluegrass Band\, Cody Wickline\, and Cody Clayton Eagle\, who was recently seen on “American Idol.”
URL:https://visitwv.com/event/almost-summer-in-almost-heaven-car-show/
LOCATION:WV State Fairgrounds\, Fairlea\, WV\, USA\, Fairlea\, West Virginia\, United States
GEO:37.7806769;-80.4570191
X-APPLE-STRUCTURED-LOCATION;VALUE=URI;X-ADDRESS=WV State Fairgrounds Fairlea WV USA Fairlea West Virginia United States;X-APPLE-RADIUS=500;X-TITLE=Fairlea\, WV\, USA:geo:-80.4570191,37.7806769
END:VEVENT
BEGIN:VEVENT
DTSTART;TZID=America/New_York:20180120T123000
DTEND;TZID=America/New_York:20180120T180000
DTSTAMP:20260420T060632
CREATED:20241015T154502Z
LAST-MODIFIED:20241015T154502Z
UID:10013966-1516451400-1516471200@visitwv.com
SUMMARY:Winter Indoor Flea Market & Lewisburg Farmers Market
DESCRIPTION:Winter Indoor Flea Market held every Tuesday and Saturday until March 10th. From 7:30am to 1pm each day.\nLewisburg Farmers Market every Saturday in the Gus Douglas Annex from 8:30am to 1pm until March 31st.
URL:https://visitwv.com/event/winter-indoor-flea-market-lewisburg-farmers-market/
LOCATION:WV State Fairgrounds\, Fairlea\, WV\, USA\, Fairlea\, West Virginia\, United States
GEO:37.7806769;-80.4570191
X-APPLE-STRUCTURED-LOCATION;VALUE=URI;X-ADDRESS=WV State Fairgrounds Fairlea WV USA Fairlea West Virginia United States;X-APPLE-RADIUS=500;X-TITLE=Fairlea\, WV\, USA:geo:-80.4570191,37.7806769
END:VEVENT
END:VCALENDAR