BEGIN:VCALENDAR
VERSION:2.0
PRODID:-//Visit Southern West Virginia - ECPv6.15.13//NONSGML v1.0//EN
CALSCALE:GREGORIAN
METHOD:PUBLISH
X-ORIGINAL-URL:https://visitwv.com
X-WR-CALDESC:Events for Visit Southern West Virginia
REFRESH-INTERVAL;VALUE=DURATION:PT1H
X-Robots-Tag:noindex
X-PUBLISHED-TTL:PT1H
BEGIN:VTIMEZONE
TZID:America/New_York
BEGIN:DAYLIGHT
TZOFFSETFROM:-0500
TZOFFSETTO:-0400
TZNAME:EDT
DTSTART:20170312T070000
END:DAYLIGHT
BEGIN:STANDARD
TZOFFSETFROM:-0400
TZOFFSETTO:-0500
TZNAME:EST
DTSTART:20171105T060000
END:STANDARD
BEGIN:DAYLIGHT
TZOFFSETFROM:-0500
TZOFFSETTO:-0400
TZNAME:EDT
DTSTART:20180311T070000
END:DAYLIGHT
BEGIN:STANDARD
TZOFFSETFROM:-0400
TZOFFSETTO:-0500
TZNAME:EST
DTSTART:20181104T060000
END:STANDARD
BEGIN:DAYLIGHT
TZOFFSETFROM:-0500
TZOFFSETTO:-0400
TZNAME:EDT
DTSTART:20190310T070000
END:DAYLIGHT
BEGIN:STANDARD
TZOFFSETFROM:-0400
TZOFFSETTO:-0500
TZNAME:EST
DTSTART:20191103T060000
END:STANDARD
BEGIN:DAYLIGHT
TZOFFSETFROM:-0500
TZOFFSETTO:-0400
TZNAME:EDT
DTSTART:20200308T070000
END:DAYLIGHT
BEGIN:STANDARD
TZOFFSETFROM:-0400
TZOFFSETTO:-0500
TZNAME:EST
DTSTART:20201101T060000
END:STANDARD
BEGIN:DAYLIGHT
TZOFFSETFROM:-0500
TZOFFSETTO:-0400
TZNAME:EDT
DTSTART:20210314T070000
END:DAYLIGHT
BEGIN:STANDARD
TZOFFSETFROM:-0400
TZOFFSETTO:-0500
TZNAME:EST
DTSTART:20211107T060000
END:STANDARD
BEGIN:DAYLIGHT
TZOFFSETFROM:-0500
TZOFFSETTO:-0400
TZNAME:EDT
DTSTART:20220313T070000
END:DAYLIGHT
BEGIN:STANDARD
TZOFFSETFROM:-0400
TZOFFSETTO:-0500
TZNAME:EST
DTSTART:20221106T060000
END:STANDARD
END:VTIMEZONE
BEGIN:VEVENT
DTSTART;TZID=America/New_York:20211023T170000
DTEND;TZID=America/New_York:20211023T200000
DTSTAMP:20260424T023430
CREATED:20241015T165435Z
LAST-MODIFIED:20241015T165435Z
UID:10015196-1635008400-1635019200@visitwv.com
SUMMARY:Town of Pineville Trunk or Treat
DESCRIPTION:The Town of Pineville will be hosting the 2021 Trunk or Treat at the Palisades Park on Saturday October 23rd\, from 5 pm – 8 pm. Trunk or Treat is a fun\, safe\, family environment where trunk or treaters spend the evening going from trunk to trunk collecting candy from volunteers who have decorated their vehicles to serve as a backdrop for this spooktacular event!
URL:https://visitwv.com/event/town-of-pineville-trunk-or-treat/
LOCATION:Pineville’s Palisades Park\, Pineville\, WV\, USA\, Pineville\, West Virginia\, United States
END:VEVENT
BEGIN:VEVENT
DTSTART;TZID=America/New_York:20180903T210000
DTEND;TZID=America/New_York:20180907T020000
DTSTAMP:20260424T023430
CREATED:20241015T154728Z
LAST-MODIFIED:20241015T154728Z
UID:10014077-1536008400-1536285600@visitwv.com
SUMMARY:Wyoming County Labor Day Festival
DESCRIPTION:Join in the annual Labor Day Celebration.  Live music by Bullet Proof\, a parade of lights and fireworks with top off the celebration.\n 
URL:https://visitwv.com/event/wyoming-county-labor-day-festival/
LOCATION:Pineville’s Palisades Park\, Pineville\, WV\, USA\, Pineville\, West Virginia\, United States
END:VEVENT
END:VCALENDAR