BEGIN:VCALENDAR
VERSION:2.0
PRODID:-//Visit Southern West Virginia - ECPv6.15.13//NONSGML v1.0//EN
CALSCALE:GREGORIAN
METHOD:PUBLISH
X-ORIGINAL-URL:https://visitwv.com
X-WR-CALDESC:Events for Visit Southern West Virginia
REFRESH-INTERVAL;VALUE=DURATION:PT1H
X-Robots-Tag:noindex
X-PUBLISHED-TTL:PT1H
BEGIN:VTIMEZONE
TZID:America/New_York
BEGIN:DAYLIGHT
TZOFFSETFROM:-0500
TZOFFSETTO:-0400
TZNAME:EDT
DTSTART:20140309T070000
END:DAYLIGHT
BEGIN:STANDARD
TZOFFSETFROM:-0400
TZOFFSETTO:-0500
TZNAME:EST
DTSTART:20141102T060000
END:STANDARD
BEGIN:DAYLIGHT
TZOFFSETFROM:-0500
TZOFFSETTO:-0400
TZNAME:EDT
DTSTART:20150308T070000
END:DAYLIGHT
BEGIN:STANDARD
TZOFFSETFROM:-0400
TZOFFSETTO:-0500
TZNAME:EST
DTSTART:20151101T060000
END:STANDARD
BEGIN:DAYLIGHT
TZOFFSETFROM:-0500
TZOFFSETTO:-0400
TZNAME:EDT
DTSTART:20160313T070000
END:DAYLIGHT
BEGIN:STANDARD
TZOFFSETFROM:-0400
TZOFFSETTO:-0500
TZNAME:EST
DTSTART:20161106T060000
END:STANDARD
BEGIN:DAYLIGHT
TZOFFSETFROM:-0500
TZOFFSETTO:-0400
TZNAME:EDT
DTSTART:20170312T070000
END:DAYLIGHT
BEGIN:STANDARD
TZOFFSETFROM:-0400
TZOFFSETTO:-0500
TZNAME:EST
DTSTART:20171105T060000
END:STANDARD
BEGIN:DAYLIGHT
TZOFFSETFROM:-0500
TZOFFSETTO:-0400
TZNAME:EDT
DTSTART:20180311T070000
END:DAYLIGHT
BEGIN:STANDARD
TZOFFSETFROM:-0400
TZOFFSETTO:-0500
TZNAME:EST
DTSTART:20181104T060000
END:STANDARD
BEGIN:DAYLIGHT
TZOFFSETFROM:-0500
TZOFFSETTO:-0400
TZNAME:EDT
DTSTART:20190310T070000
END:DAYLIGHT
BEGIN:STANDARD
TZOFFSETFROM:-0400
TZOFFSETTO:-0500
TZNAME:EST
DTSTART:20191103T060000
END:STANDARD
BEGIN:DAYLIGHT
TZOFFSETFROM:-0500
TZOFFSETTO:-0400
TZNAME:EDT
DTSTART:20200308T070000
END:DAYLIGHT
BEGIN:STANDARD
TZOFFSETFROM:-0400
TZOFFSETTO:-0500
TZNAME:EST
DTSTART:20201101T060000
END:STANDARD
BEGIN:DAYLIGHT
TZOFFSETFROM:-0500
TZOFFSETTO:-0400
TZNAME:EDT
DTSTART:20210314T070000
END:DAYLIGHT
BEGIN:STANDARD
TZOFFSETFROM:-0400
TZOFFSETTO:-0500
TZNAME:EST
DTSTART:20211107T060000
END:STANDARD
BEGIN:DAYLIGHT
TZOFFSETFROM:-0500
TZOFFSETTO:-0400
TZNAME:EDT
DTSTART:20220313T070000
END:DAYLIGHT
BEGIN:STANDARD
TZOFFSETFROM:-0400
TZOFFSETTO:-0500
TZNAME:EST
DTSTART:20221106T060000
END:STANDARD
BEGIN:DAYLIGHT
TZOFFSETFROM:-0500
TZOFFSETTO:-0400
TZNAME:EDT
DTSTART:20230312T070000
END:DAYLIGHT
BEGIN:STANDARD
TZOFFSETFROM:-0400
TZOFFSETTO:-0500
TZNAME:EST
DTSTART:20231105T060000
END:STANDARD
BEGIN:DAYLIGHT
TZOFFSETFROM:-0500
TZOFFSETTO:-0400
TZNAME:EDT
DTSTART:20240310T070000
END:DAYLIGHT
BEGIN:STANDARD
TZOFFSETFROM:-0400
TZOFFSETTO:-0500
TZNAME:EST
DTSTART:20241103T060000
END:STANDARD
BEGIN:DAYLIGHT
TZOFFSETFROM:-0500
TZOFFSETTO:-0400
TZNAME:EDT
DTSTART:20250309T070000
END:DAYLIGHT
BEGIN:STANDARD
TZOFFSETFROM:-0400
TZOFFSETTO:-0500
TZNAME:EST
DTSTART:20251102T060000
END:STANDARD
BEGIN:DAYLIGHT
TZOFFSETFROM:-0500
TZOFFSETTO:-0400
TZNAME:EDT
DTSTART:20260308T070000
END:DAYLIGHT
BEGIN:STANDARD
TZOFFSETFROM:-0400
TZOFFSETTO:-0500
TZNAME:EST
DTSTART:20261101T060000
END:STANDARD
END:VTIMEZONE
BEGIN:VEVENT
DTSTART;TZID=America/New_York:20250912T120000
DTEND;TZID=America/New_York:20250914T000000
DTSTAMP:20260425T212501
CREATED:20250806T191641Z
LAST-MODIFIED:20250806T191645Z
UID:10017328-1757678400-1757808000@visitwv.com
SUMMARY:Haunt Fest in Hinton\, WV
DESCRIPTION:Welcome to the second Haunt Fest in the town of Hinton\, West Virginia. \n\n\n\nJoin us for a full day and night (12PM-12AM) of all things eerie\, spooky\, and paranormal in the town of Hinton. From (8PM-12AM) join us for the Creepy Crawl a paranormal investigation happening in FOUR different locations in town (The Library\, The Reach House\, Campbell – Flannagan – Murrell House Museum\, Wilson Warehouse) \n\n\n\nAdmission: $25.00Vendor Fee: $25.00 (VENDOR SPOTS LIMITED!!) \n\n\n\nThis one-of-a-kind event will feature:• Paranormal Vendors & Haunted Merch• Food Trucks & Spooky Treats• Live Entertainment• Chilling Ghost Stories• Paranormal Investigations \n\n\n\nWhether you’re a ghost hunter\, horror fan\, Halloween lover\, or just looking for a unique experience – Haunt Fest is the place to be! \n\n\n\nCome for the scares. Stay for the spirits.You’ve never seen Hinton like this. \n\n\n\nVENDOR AND TICKET INFOhttps://appalachian-ghost-tours.square.site/s/shop \n\n\n\n* ALL SALES ARE FINAL TICKETS ARE NON-REFUNDABLE* 
URL:https://visitwv.com/event/haunt-fest-in-hinton-wv/
LOCATION:Historic Hinton\, Temple Street\, Hinton\, WV\, 25951\, United States
CATEGORIES:Summers
END:VEVENT
BEGIN:VEVENT
DTSTART;TZID=America/New_York:20250829T180000
DTEND;TZID=America/New_York:20250829T200000
DTSTAMP:20260425T212501
CREATED:20250827T130809Z
LAST-MODIFIED:20250827T130813Z
UID:10017368-1756490400-1756497600@visitwv.com
SUMMARY:Matt Mullins at the Hinton Historic District
DESCRIPTION:Free show! Matt Mullins at the Rivertown Stage\, Ballangee Street\, in the Hinton Historic District
URL:https://visitwv.com/event/matt-mullins-at-the-hinton-historic-district/
LOCATION:Historic Hinton\, Temple Street\, Hinton\, WV\, 25951\, United States
CATEGORIES:Summers
END:VEVENT
BEGIN:VEVENT
DTSTART;TZID=America/New_York:20241214T110000
DTEND;TZID=America/New_York:20241214T170000
DTSTAMP:20260425T212501
CREATED:20241119T154648Z
LAST-MODIFIED:20241119T154649Z
UID:10016719-1734174000-1734195600@visitwv.com
SUMMARY:Hinton's Hometown Christmas Cookie Express & Art Walk
DESCRIPTION:Enjoy the town of Hinton and check out A variety of local artists inside our local businesses! Purchase gifts or watch demonstrations.You can also Purchase a golden ticket and follow the Cookie Express that day\, where you will get a bag & cookie tin to fill up with cookies from local businesses! [Only 60 tickets are available]Purchase tickets at Hinton Outfitters starting on Small Business Saturday!
URL:https://visitwv.com/event/hintons-hometown-christmas-cookie-express-art-walk/
LOCATION:Historic Hinton\, Temple Street\, Hinton\, WV\, 25951\, United States
ORGANIZER;CN="City of Hinton":MAILTO:nicolemmiller2@yahoo.com
END:VEVENT
BEGIN:VEVENT
DTSTART;TZID=America/New_York:20230722T000000
DTEND;TZID=America/New_York:20230729T235900
DTSTAMP:20260425T212501
CREATED:20241015T173606Z
LAST-MODIFIED:20241015T173606Z
UID:10016472-1689984000-1690675140@visitwv.com
SUMMARY:Annual WV State Water Festival
DESCRIPTION:“Where the Old Meets the New”\n\nThe 58th Annual West Virginia State Water Festival returns to Hinton and Summers County from July 22nd through July 29th.\n\nA week of activities are planned that will include the annual Fireman’s Parade with Fireworks to follow\, the Queen’s Coronation\, the Water Festival Parade\, the Street Dance\, and the return of the Queen’s Ball.\n\nThe week-long schedule kicks off Saturday\, July 22nd with a morning float trip on the New River followed by a live concert in town from 7pm-9pm by local favorite Jonben Slate and a night swim sponsored by the City at Wild Water Express. A special Food Truck Event\, Gospel Music and Church open house plus a special dinner for the Queen and Court will be new features of this year’s event.\n\nSaturday (7/22)\n\n10am to noon – Pet Parade & Animal Show – Downtown\n4-8pm – Pretty Baby Contest – Freight Depot\n5:30 to 9pm – Live Music – JonBen Slate – City Park\n8-11pm – Night Swim – Wild Water Express\n\nSunday (7/23) & Monday (7/24) \n\nOpen\n\nTuesday (7/25) \n\n7pm – Queen’s Cornation – Ritz Theater\n\nWednesday (7/26) \n\n10am – Youth Art Show beings in Summers County Library\n4-8pm – Food Truck Event – Third Avenue\n6-8pm – Celebration of Churches – Downtown\n6-7:30pm – Live Music – Cody Bragg – City Park\n\nThursday (7/27) \n\n4-8pm – Vendors – Courthouse Lawn\n5pm – Youth Art Show Reception – Summers County Library\n6-8pm – Queen’s Banquet – Freight Depot\n8-10pm – Teenage Street Dance – 2nd\n\nFriday (7/28)\n\n8-11am – Kiwanis Pancake Breakfast – St Patrick’s Church\n4-10pm – Vendors & Kid Zone – Courthouse Lawn\n8-9pm – Fireman’s Parade – Downtown Hinton\nFireworks Downtown Hinton After Fireman’s Parade\n\nSaturday (7/29) \n\n8-11am – Kiwanis Pancake Breakfast – St Patrick’s Church\n10am-6pm – Vendors & Kids Zone – Courthouse Lawn\n11am-1pm – Water Festival Parade\n2pm – Magic Show – Courthouse Lawn Stage\n2-3pm – Rubber Ducky Race – The Point\n2-3pm – Queen’s Reception – McCreery Hotel\n7pm- Midnight – Queen’s Ball – Willowwood Country Club
URL:https://visitwv.com/event/annual-wv-state-water-festival/
LOCATION:Historic Hinton\, Temple Street\, Hinton\, WV\, 25951\, United States
END:VEVENT
BEGIN:VEVENT
DTSTART;TZID=America/New_York:20221210T100000
DTEND;TZID=America/New_York:20221210T140000
DTSTAMP:20260425T212501
CREATED:20241015T172031Z
LAST-MODIFIED:20241015T172031Z
UID:10016024-1670666400-1670680800@visitwv.com
SUMMARY:Hinton’s Hometown Christmas Art Walk & Cookie Express
DESCRIPTION:The city of Hinton is excited to invite you to our first-ever Hinton’s Hometown Christmas Art Walk & Cookie Express!\nCome to downtown Historic Hinton and enjoy viewing local artwork\, watching demonstrations\, and even doing some Christmas shopping! More details will be released as we get closer.\nAnother amazing event to help you enjoy your Hometown during the holiday season!
URL:https://visitwv.com/event/hintons-hometown-christmas-art-walk-cookie-express/
LOCATION:Historic Hinton\, Temple Street\, Hinton\, WV\, 25951\, United States
END:VEVENT
BEGIN:VEVENT
DTSTART;TZID=America/New_York:20220501T090000
DTEND;TZID=America/New_York:20220507T220000
DTSTAMP:20260425T212501
CREATED:20241015T170557Z
LAST-MODIFIED:20241015T170557Z
UID:10015541-1651395600-1651960800@visitwv.com
SUMMARY:Hinton Restaurant Appreciation Week
DESCRIPTION:The City of Hinton presents Hinton Restaurant Appreciation Week! This week (May 1-7) will be a time that we feature restaurants within our city and community! Take this time to dine local and get to know all of the great food in Hinton\, WV.
URL:https://visitwv.com/event/hinton-restaurant-appreciation-week/
LOCATION:Historic Hinton\, Temple Street\, Hinton\, WV\, 25951\, United States
END:VEVENT
BEGIN:VEVENT
DTSTART;TZID=America/New_York:20191214T180000
DTEND;TZID=America/New_York:20191214T200000
DTSTAMP:20260425T212501
CREATED:20241015T163540Z
LAST-MODIFIED:20241015T163540Z
UID:10014491-1576346400-1576353600@visitwv.com
SUMMARY:Annual Christmas Luminary Walk
DESCRIPTION:Join the Historic Churches of Hinton for their 8th Annual Christmas Walk. Celebrate Christmas with a Church Tour along a luminary lit path.\nBefore the Christmas Walk begins\, the First Baptist Church will be offering a place of nourishment for both body and spirit. From 4:30 to 6 PM on Saturday\, Dec. 14\, they will be serving soup and sandwiches downstairs\, music and a quiet place for meditation upstairs.\nThe walk begins at 6\, visiting Hinton’s historic churches and hearing afresh\, the Christmas story. \nAfter the walk\, there will be a reception with finger foods\, drinks and music at First Presbyterian Church. \nPlease call (304) 466-5420 for questions. \n  \n 
URL:https://visitwv.com/event/annual-christmas-luminary-walk/
LOCATION:Historic Hinton\, Temple Street\, Hinton\, WV\, 25951\, United States
END:VEVENT
BEGIN:VEVENT
DTSTART;TZID=America/New_York:20151024T000000
DTEND;TZID=America/New_York:20151026T235900
DTSTAMP:20260425T212501
CREATED:20241015T153810Z
LAST-MODIFIED:20241015T153810Z
UID:10013665-1445644800-1445903940@visitwv.com
SUMMARY:Hinton Railroad Days
DESCRIPTION:Each year Hinton’s Railroad Days includes vendors selling many different and unusual crafts; such as rings made from coins\, coal scrip and old coins; handmade wooden banks with old post office doors; flag boxes; wooden furniture; hand-painted items; quilts; jewelry; driftwood creations; wooden oil lamps; Patio Foundations and many more interesting items.\nThe New River Train arrives each afternoon of Railroad Days. For more information on The New River Train and the Collis P. Huntington Railroad Society\, visit their site at www.newrivertrain.com
URL:https://visitwv.com/event/hinton-railroad-days-2/
LOCATION:Historic Hinton\, Temple Street\, Hinton\, WV\, 25951\, United States
END:VEVENT
END:VCALENDAR