BEGIN:VCALENDAR
VERSION:2.0
PRODID:-//Visit Southern West Virginia - ECPv6.15.13//NONSGML v1.0//EN
CALSCALE:GREGORIAN
METHOD:PUBLISH
X-ORIGINAL-URL:https://visitwv.com
X-WR-CALDESC:Events for Visit Southern West Virginia
REFRESH-INTERVAL;VALUE=DURATION:PT1H
X-Robots-Tag:noindex
X-PUBLISHED-TTL:PT1H
BEGIN:VTIMEZONE
TZID:America/New_York
BEGIN:DAYLIGHT
TZOFFSETFROM:-0500
TZOFFSETTO:-0400
TZNAME:EDT
DTSTART:20190310T070000
END:DAYLIGHT
BEGIN:STANDARD
TZOFFSETFROM:-0400
TZOFFSETTO:-0500
TZNAME:EST
DTSTART:20191103T060000
END:STANDARD
BEGIN:DAYLIGHT
TZOFFSETFROM:-0500
TZOFFSETTO:-0400
TZNAME:EDT
DTSTART:20200308T070000
END:DAYLIGHT
BEGIN:STANDARD
TZOFFSETFROM:-0400
TZOFFSETTO:-0500
TZNAME:EST
DTSTART:20201101T060000
END:STANDARD
BEGIN:DAYLIGHT
TZOFFSETFROM:-0500
TZOFFSETTO:-0400
TZNAME:EDT
DTSTART:20210314T070000
END:DAYLIGHT
BEGIN:STANDARD
TZOFFSETFROM:-0400
TZOFFSETTO:-0500
TZNAME:EST
DTSTART:20211107T060000
END:STANDARD
BEGIN:DAYLIGHT
TZOFFSETFROM:-0500
TZOFFSETTO:-0400
TZNAME:EDT
DTSTART:20220313T070000
END:DAYLIGHT
BEGIN:STANDARD
TZOFFSETFROM:-0400
TZOFFSETTO:-0500
TZNAME:EST
DTSTART:20221106T060000
END:STANDARD
BEGIN:DAYLIGHT
TZOFFSETFROM:-0500
TZOFFSETTO:-0400
TZNAME:EDT
DTSTART:20230312T070000
END:DAYLIGHT
BEGIN:STANDARD
TZOFFSETFROM:-0400
TZOFFSETTO:-0500
TZNAME:EST
DTSTART:20231105T060000
END:STANDARD
BEGIN:DAYLIGHT
TZOFFSETFROM:-0500
TZOFFSETTO:-0400
TZNAME:EDT
DTSTART:20240310T070000
END:DAYLIGHT
BEGIN:STANDARD
TZOFFSETFROM:-0400
TZOFFSETTO:-0500
TZNAME:EST
DTSTART:20241103T060000
END:STANDARD
BEGIN:DAYLIGHT
TZOFFSETFROM:-0500
TZOFFSETTO:-0400
TZNAME:EDT
DTSTART:20250309T070000
END:DAYLIGHT
BEGIN:STANDARD
TZOFFSETFROM:-0400
TZOFFSETTO:-0500
TZNAME:EST
DTSTART:20251102T060000
END:STANDARD
BEGIN:DAYLIGHT
TZOFFSETFROM:-0500
TZOFFSETTO:-0400
TZNAME:EDT
DTSTART:20260308T070000
END:DAYLIGHT
BEGIN:STANDARD
TZOFFSETFROM:-0400
TZOFFSETTO:-0500
TZNAME:EST
DTSTART:20261101T060000
END:STANDARD
END:VTIMEZONE
BEGIN:VEVENT
DTSTART;TZID=America/New_York:20250405T180000
DTEND;TZID=America/New_York:20250405T183000
DTSTAMP:20260421T091040
CREATED:20250403T162826Z
LAST-MODIFIED:20250403T162827Z
UID:10017087-1743876000-1743877800@visitwv.com
SUMMARY:Short Film Festival @ Hawks Nest State Park
DESCRIPTION:Join us at Hawks Nest State Park for a short film festival with acclaimed actor Michael Martin. This event includes dinner\, short films and a time of Q&A with Michael Martin. Dinner starts at 6 p.m. followed by the films at 7 p.m. \n\n\n\nPackages: \n\n\n\nALL INCLUSIVE package for two includes lodging\, dinner\, show and breakfast the next morning: $180.00 \n\n\n\nDinner and Show package for two: $70.00 \n\n\n\nDinner and Show for one: $35.00 \n\n\n\nFor more information or to make reservations\, please call Hawks Nest State Park at (304) 658-5212.
URL:https://visitwv.com/event/short-film-festival-hawks-nest-state-park/
LOCATION:Hawks Nest State Park\, US Rt 60\, Ansted\, WV\, 25812\, United States
END:VEVENT
BEGIN:VEVENT
DTSTART;TZID=America/New_York:20241231T210000
DTEND;TZID=America/New_York:20250101T110000
DTSTAMP:20260421T091040
CREATED:20241204T205526Z
LAST-MODIFIED:20241204T205529Z
UID:10016770-1735678800-1735729200@visitwv.com
SUMMARY:New Years Eve Party at Hawks Nest State Park
DESCRIPTION:Celebrate New Year’s Eve with an all-inclusive package for two at Hawks Nest State Park! Enjoy lodging\, dinner\, hors d’oeuvres\, champagne or sparkling grape juice toast at midnight\, and a cash bar and breakfast the next morning. Dance the night away with special guest DJ Entertainment Mark Hurt. \n\n\n\nCall (304) 658-5212 ext. 0 for more information or to make a reservation.
URL:https://visitwv.com/event/new-years-eve-party-at-hawks-nest-state-park/
LOCATION:Hawks Nest State Park\, US Rt 60\, Ansted\, WV\, 25812\, United States
ORGANIZER;CN="Hawks Nest State Park":MAILTO:hawksnestsp@wv.gov
END:VEVENT
BEGIN:VEVENT
DTSTART;TZID=America/New_York:20241130T170000
DTEND;TZID=America/New_York:20241130T193000
DTSTAMP:20260421T091040
CREATED:20241119T210752Z
LAST-MODIFIED:20241119T210753Z
UID:10016752-1732986000-1732995000@visitwv.com
SUMMARY:Christmas Lighting Ceremony at Hawks Nest State Park
DESCRIPTION:Join us for our Annual Christmas Lighting Ceremony! 🎄There will be a special guest visit from The Grinch & Santa! 🎅🏻 Additionally\, there will be crafts for kids\, a Christmas movie playing in the conference for all who come\, and snacks!See you there!😉
URL:https://visitwv.com/event/christmas-lighting-ceremony-at-hawks-nest-state-park/
LOCATION:Hawks Nest State Park\, US Rt 60\, Ansted\, WV\, 25812\, United States
ORGANIZER;CN="Hawks Nest State Park":MAILTO:hawksnestsp@wv.gov
END:VEVENT
BEGIN:VEVENT
DTSTART;TZID=America/New_York:20240921T100000
DTEND;TZID=America/New_York:20240921T170000
DTSTAMP:20260421T091040
CREATED:20241010T180358Z
LAST-MODIFIED:20241010T180358Z
UID:10013296-1726912800-1726938000@visitwv.com
SUMMARY:Country Roads Festival & Tractor Pull at Hawks Nest State Park
DESCRIPTION:Join us Saturday\, September 21st for the Country Roads Festival 2nd Annual Tractor Show presented by Michael Gwinn Insurance Agency. Contact the agency to register (304) 574-0499.
URL:https://visitwv.com/event/country-roads-festival-tractor-pull-at-hawks-nest-state-park/
LOCATION:Hawks Nest State Park\, US Rt 60\, Ansted\, WV\, 25812\, United States
END:VEVENT
BEGIN:VEVENT
DTSTART;TZID=America/New_York:20240907T173000
DTEND;TZID=America/New_York:20240907T230000
DTSTAMP:20260421T091040
CREATED:20241010T180341Z
LAST-MODIFIED:20241010T180341Z
UID:10013282-1725730200-1725750000@visitwv.com
SUMMARY:2024 Farm to Table Dinner Event Series: Hawks Nest State Park
DESCRIPTION:Join us for the 2024 Farm to Table Dinner Event Series at the Hawks Nest Events Center. There will be seating at 5:30 p.m. For more information\, contact Hawks Nest State Park at 304-658-5196.
URL:https://visitwv.com/event/2024-farm-to-table-dinner-event-series-hawks-nest-state-park/
LOCATION:Hawks Nest State Park\, US Rt 60\, Ansted\, WV\, 25812\, United States
END:VEVENT
BEGIN:VEVENT
DTSTART;TZID=America/New_York:20240803T120000
DTEND;TZID=America/New_York:20240803T170000
DTSTAMP:20260421T091040
CREATED:20241010T180304Z
LAST-MODIFIED:20241010T180304Z
UID:10013250-1722686400-1722704400@visitwv.com
SUMMARY:The Necessity of Independence: Dunmore's War\, Stepping Stone to the Revolution
DESCRIPTION:Doug Wood will present living history interpretations of Dunmore’s War with recruited living history interpreters at six state parks throughout 2024. Each event will include a History Alive! performance of Thomas Ingles by Doug Wood. The event is free to the public. For more information\, contact Hawks Nest State Park at 304-658-5196. \n\n\n\nThe March Over Gauley Mountain
URL:https://visitwv.com/event/the-necessity-of-independence-dunmores-war-stepping-stone-to-the-revolution/
LOCATION:Hawks Nest State Park\, US Rt 60\, Ansted\, WV\, 25812\, United States
END:VEVENT
BEGIN:VEVENT
DTSTART;TZID=America/New_York:20240411T000000
DTEND;TZID=America/New_York:20240414T235900
DTSTAMP:20260421T091040
CREATED:20241010T175831Z
LAST-MODIFIED:20241010T175831Z
UID:10013032-1712793600-1713139140@visitwv.com
SUMMARY:Spring Botany Blast
DESCRIPTION:Join our inaugural Spring Botany Blast\, April 11-14\, headquartered at Hawks Nest State Park! See the wildflower blooms of spring in the New River Gorge\, as the river flows north giving blooms a lift up the Appalachian Mountains\, in an unforgettable wildflower experience with Jim McCormac! The weekend package includes meals\, field trip transportation\, presentations\, and optional three nights lodging at Hawks Nest Lodge. Oh\, and there will be birds!
URL:https://visitwv.com/event/spring-botany-blast/
LOCATION:Hawks Nest State Park\, US Rt 60\, Ansted\, WV\, 25812\, United States
END:VEVENT
BEGIN:VEVENT
DTSTART;TZID=America/New_York:20240210T180000
DTEND;TZID=America/New_York:20240210T210000
DTSTAMP:20260421T091040
CREATED:20241010T175711Z
LAST-MODIFIED:20241010T175711Z
UID:10012977-1707588000-1707598800@visitwv.com
SUMMARY:Valentines at Hawk's Nest State Park
DESCRIPTION:Celebrate Valentine’s Day Weekend at beautiful Hawks Nest State Park! This package includes Saturday night accommodations\, dinner at the Overlook Restaurant\, the theater show; Cass Elliot\, Sunday morning express breakfast and a paint and sip for Sunday afternoon before departure. All inclusive package starts at $250 per couple. Dinner begins at 6 p.m. with the play to follow at 7 p.m. Call Hawks Nest State Park at 304-658-5212 for more information.
URL:https://visitwv.com/event/valentines-at-hawks-nest-state-park/
LOCATION:Hawks Nest State Park\, US Rt 60\, Ansted\, WV\, 25812\, United States
END:VEVENT
BEGIN:VEVENT
DTSTART;TZID=America/New_York:20240120T180000
DTEND;TZID=America/New_York:20240120T200000
DTSTAMP:20260421T091040
CREATED:20241010T175627Z
LAST-MODIFIED:20241010T175627Z
UID:10012950-1705773600-1705780800@visitwv.com
SUMMARY:Hawks Nest Tunnel Disaster Presentation and Dinner
DESCRIPTION: Join John Cavendish as he delves into the history behind the Hawks Nest Diversion Tunnel. The construction of this tunnel\, which diverts water from the New River to a hydroelectric plant downstream\, is considered to be one of the worst industrial disasters in American history. Presentation package includes lodging at Hawks Nest lodge\, dinner for two at the Overlook Restaurant featuring stunning views of the Hawks Nest gorge\, the presentation at 7pm and an express breakfast the following morning. Package price is $179.00 which includes tax and gratuity. Dinner and presentation only package for two is $72.00. For more information\, please contact Hawks Nest State Park at 304-658-5212. 
URL:https://visitwv.com/event/hawks-nest-tunnel-disaster-presentation-and-dinner/
LOCATION:Hawks Nest State Park\, US Rt 60\, Ansted\, WV\, 25812\, United States
END:VEVENT
BEGIN:VEVENT
DTSTART;TZID=America/New_York:20230527T180000
DTEND;TZID=America/New_York:20230527T200000
DTSTAMP:20260421T091040
CREATED:20241015T172838Z
LAST-MODIFIED:20241015T172838Z
UID:10016307-1685210400-1685217600@visitwv.com
SUMMARY:Farm-to-Table Experience: Hawks Nest
DESCRIPTION:Farm-to-Table at Hawks Nest State Park takes a twist in 2023. with a Friday cocktail social and Saturday Farm-to-Table meal.  The Vagabond Chef Matt Welsh is preparing cocktails and our Farm-to-Table meal to create an extraordinary Memorial Weekend event at Hawks Nest. \nFriday\, May 26\, 2023 features a Meet & Greet cocktail social from 6:30 – 8:30 p.m. with ‘The Vagabond Chef’ Matt Welsh. This social features beverages from Bridge Brew Works of Fayetteville\, WV. Dinner Friday is on your own with dining specials offered at Hawks Nest Restaurant. \nThe Farm-to-Table meal is Saturday\, May 27\, 2023 with Chief Matt Welsh overseeing the preparation and tastings of Hawks Knob Ciders paired with a flavorful seasonal menu. The evening dining experience begins at 5:00pm. with a cocktail social featuring beverages from Hawk Knob Appalachian Hard Ciders. The Farm-to-Table dinner begins around 6:15 p.m.
URL:https://visitwv.com/event/farm-to-table-experience-hawks-nest-2/
LOCATION:Hawks Nest State Park\, US Rt 60\, Ansted\, WV\, 25812\, United States
END:VEVENT
BEGIN:VEVENT
DTSTART;TZID=America/New_York:20230514T130000
DTEND;TZID=America/New_York:20230514T150000
DTSTAMP:20260421T091040
CREATED:20241015T172818Z
LAST-MODIFIED:20241015T172818Z
UID:10016291-1684069200-1684076400@visitwv.com
SUMMARY:Mother's Day Paint and Sip
DESCRIPTION:Join your Mom for a paint and sip party at Hawks Nest State Park in the Conference Room.  Canvas and two drinks included (alcoholic and non-alcoholic options). Cost is $35 per person or $65 for two! Reservations required. Call 304-658-5196 ext 1575.
URL:https://visitwv.com/event/mothers-day-paint-and-sip/
LOCATION:Hawks Nest State Park\, US Rt 60\, Ansted\, WV\, 25812\, United States
END:VEVENT
BEGIN:VEVENT
DTSTART;TZID=America/New_York:20230326T183000
DTEND;TZID=America/New_York:20230326T203000
DTSTAMP:20260421T091040
CREATED:20241015T172526Z
LAST-MODIFIED:20241015T172526Z
UID:10016214-1679855400-1679862600@visitwv.com
SUMMARY:Farm-to-Table Experience: Hawks Nest
DESCRIPTION:Farm-to-Table at Hawks Nest State Park takes a twist in 2023. with a Friday cocktail social and Saturday Farm-to-Table meal.  The Vagabond Chef Matt Welsh is preparing cocktails and our Farm-to-Table meal to create an extraordinary Memorial Weekend event at Hawks Nest. \nFriday\, May 26\, 2023 features a Meet & Greet cocktail social from 6:30 – 8:30 p.m. with ‘The Vagabond Chef’ Matt Welsh. This social features beverages from Bridge Brew Works of Fayetteville\, WV. Dinner Friday is on your own with dining specials offered at Hawks Nest Restaurant. \nThe Farm-to-Table meal is Saturday\, May 27\, 2023 with Chief Matt Welsh overseeing the preparation and tastings of Hawks Knob Ciders paired with a flavorful seasonal menu. The evening dining experience begins at 5:00pm. with a cocktail social featuring beverages from Hawk Knob Appalachian Hard Ciders. The Farm-to-Table dinner begins around 6:15 p.m.
URL:https://visitwv.com/event/farm-to-table-experience-hawks-nest/
LOCATION:Hawks Nest State Park\, US Rt 60\, Ansted\, WV\, 25812\, United States
END:VEVENT
BEGIN:VEVENT
DTSTART;TZID=America/New_York:20230319T110000
DTEND;TZID=America/New_York:20230319T200000
DTSTAMP:20260421T091040
CREATED:20241015T172428Z
LAST-MODIFIED:20241015T172428Z
UID:10016191-1679223600-1679256000@visitwv.com
SUMMARY:St Patrick's Day (s) at Hawks Nest
DESCRIPTION:The Overlook at the New River Gorge Restaurant at Hawks Nest State Park proudly presents St. Patrick’s Day specials for both lunch and dinner on Friday the 17th\, Saturday the 18th and Sunday the 19th . Irish Nachos\, Corn Beef and Cabbage Stew and Shamrock Sour & Lucky Leprechaun cocktails.
URL:https://visitwv.com/event/st-patricks-day-s-at-hawks-nest-3/
LOCATION:Hawks Nest State Park\, US Rt 60\, Ansted\, WV\, 25812\, United States
END:VEVENT
BEGIN:VEVENT
DTSTART;TZID=America/New_York:20230318T110000
DTEND;TZID=America/New_York:20230318T200000
DTSTAMP:20260421T091040
CREATED:20241015T172411Z
LAST-MODIFIED:20241015T172411Z
UID:10016182-1679137200-1679169600@visitwv.com
SUMMARY:St Patrick's Day (s) at Hawks Nest
DESCRIPTION:The Overlook at the New River Gorge Restaurant at Hawks Nest State Park proudly presents St. Patrick’s Day specials for both lunch and dinner on Friday the 17th\, Saturday the 18th and Sunday the 19th . Irish Nachos\, Corn Beef and Cabbage Stew and Shamrock Sour & Lucky Leprechaun cocktails.
URL:https://visitwv.com/event/st-patricks-day-s-at-hawks-nest-2/
LOCATION:Hawks Nest State Park\, US Rt 60\, Ansted\, WV\, 25812\, United States
END:VEVENT
BEGIN:VEVENT
DTSTART;TZID=America/New_York:20230317T110000
DTEND;TZID=America/New_York:20230317T200000
DTSTAMP:20260421T091040
CREATED:20241015T172407Z
LAST-MODIFIED:20241015T172407Z
UID:10016175-1679050800-1679083200@visitwv.com
SUMMARY:St Patrick's Day (s) at Hawks Nest
DESCRIPTION:The Overlook at the New River Gorge Restaurant at Hawks Nest State Park proudly presents St. Patrick’s Day specials for both lunch and dinner on Friday the 17th\, Saturday the 18th and Sunday the 19th . Irish Nachos\, Corn Beef and Cabbage Stew and Shamrock Sour & Lucky Leprechaun cocktails.
URL:https://visitwv.com/event/st-patricks-day-s-at-hawks-nest/
LOCATION:Hawks Nest State Park\, US Rt 60\, Ansted\, WV\, 25812\, United States
END:VEVENT
BEGIN:VEVENT
DTSTART;TZID=America/New_York:20230303T180000
DTEND;TZID=America/New_York:20230303T180000
DTSTAMP:20260421T091040
CREATED:20241015T172335Z
LAST-MODIFIED:20241015T172335Z
UID:10016153-1677866400-1677866400@visitwv.com
SUMMARY:Swinging with Elvis. Dinner and a Show: Hawks Nest
DESCRIPTION:It’s dinner and a show at Hawks Nest State Park\, Friday\, March 3\, 2023. Elvis is in the building and the performer is Lee Dean.\nPerformer Lee Dean livens up an audience with music\, a little comedy\, and a whole lot of fun for all ages. His outstanding Elvis and maybe a little Sinatra pays tributes to both men. The 7:00 PM show will be in the conference room. Dinner will be at 6:00 PM in the park restaurant\, ‘Overlook at the Gorge’. \nThe overnight package includes dinner and show for two individuals and breakfast\, all taxes\, and gratuities. The overnight cost is $200. Dinner and show only for two individuals\, $85\, and includes taxes and gratuities. \nThe evening includes dancing\, a selfie station for photo taking\, and hearing some classic Elvis songs. Lee engages the audience in a lively event. \nReservations are necessary and available by calling Hawks Nest State Park at 304-658-5212 ext. 0. Questions about this event by individuals or groups can be answered by Chloe.D.Willis@wv.gov.
URL:https://visitwv.com/event/swinging-with-elvis-dinner-and-a-show-hawks-nest/
LOCATION:Hawks Nest State Park\, US Rt 60\, Ansted\, WV\, 25812\, United States
END:VEVENT
BEGIN:VEVENT
DTSTART;TZID=America/New_York:20221202T173000
DTEND;TZID=America/New_York:20221231T220000
DTSTAMP:20260421T091040
CREATED:20241015T171912Z
LAST-MODIFIED:20241015T171912Z
UID:10015981-1670002200-1672524000@visitwv.com
SUMMARY:Hawks Nest : Lights Along the Midland Trail
DESCRIPTION:Stop and see the lights right along Route 60 – Midland Trail Scenic Highway at Hawks Nest State Park. The Lights will be on from December 2nd and go through the end of December.\n  \n  \n  \n  \n 
URL:https://visitwv.com/event/hawks-nest-lights-along-the-midland-trail/
LOCATION:Hawks Nest State Park\, US Rt 60\, Ansted\, WV\, 25812\, United States
END:VEVENT
BEGIN:VEVENT
DTSTART;TZID=America/New_York:20221124T120000
DTEND;TZID=America/New_York:20221124T160000
DTSTAMP:20260421T091040
CREATED:20241015T171828Z
LAST-MODIFIED:20241015T171828Z
UID:10015946-1669291200-1669305600@visitwv.com
SUMMARY:Thanksgiving w/ a scenic view: Hawks Nest
DESCRIPTION:November 24 is a day to give thanks which can include a traditional Thanksgiving meal at Hawks Nest State Park. The restaurant at Hawks Nest Lodge overlooks the New River area. The scenic views and the buffet planned are both exceptional.\nThanksgiving dinner at Hawks Nest is by reservation only. There are two seating options: Noon and 2:00 p.m. Make reservations on or before November 21\, 2022. \nThe traditional Thanksgiving Buffet at Hawks Nest includes:\nOven-roasted Turkey Breast\nHam. Plain and Pineapple Brown Sugar\nMashed Potatoes with Turkey Gravy\nSavory Dressing\nSweet Potato Casserole\nDeviled Eggs\nGreen Beans\nCalifornia Blend Vegetables (Cauliflower/Broccoli/Carrots)\nCranberry Relish\nDinner Rolls\nSalad Bar\nPumpkin Pie\nApple Crisp with Vanilla Ice Cream\nBlueberry Cobbler\nWater\, coffee\, sweet & unsweetened iced tea\, and Pepsi products \nThe buffet cost is for Adults: $27.95 per person\nTax and gratuity are additional.\nBuffet reservations are recommended by calling Hawks Nest State Park at 304.658.5212.
URL:https://visitwv.com/event/thanksgiving-w-a-scenic-view-hawks-nest/
LOCATION:Hawks Nest State Park\, US Rt 60\, Ansted\, WV\, 25812\, United States
END:VEVENT
BEGIN:VEVENT
DTSTART;TZID=America/New_York:20221022T120000
DTEND;TZID=America/New_York:20221022T150000
DTSTAMP:20260421T091040
CREATED:20241015T171557Z
LAST-MODIFIED:20241015T171557Z
UID:10015860-1666440000-1666450800@visitwv.com
SUMMARY:Hawks Nest Halloween
DESCRIPTION:The Ansted Events Committee has teamed up with Hawks Nest to bring you “A Hawks Nest Halloween”!! Activities planned will be at Hawks Nest Lodge main parking area with trick or treat booths set up\, prizes and more.
URL:https://visitwv.com/event/hawks-nest-halloween/
LOCATION:Hawks Nest State Park\, US Rt 60\, Ansted\, WV\, 25812\, United States
END:VEVENT
BEGIN:VEVENT
DTSTART;TZID=America/New_York:20220917T000000
DTEND;TZID=America/New_York:20220918T235900
DTSTAMP:20260421T091040
CREATED:20241015T171241Z
LAST-MODIFIED:20241015T171241Z
UID:10015753-1663372800-1663545540@visitwv.com
SUMMARY:47th Annual Country Roads Festival
DESCRIPTION:Join the Town of Ansted for their 47th Annual Country Roads Festival: Presented by the Ansted Lions Club. September 17-18 2022 at Hawks Nest State Park. There will be Food Trucks\, Live Music & Entertainment\, Craft Vendors\, Prize Drawings\, and more!!
URL:https://visitwv.com/event/47th-annual-country-roads-festival/
LOCATION:Hawks Nest State Park\, US Rt 60\, Ansted\, WV\, 25812\, United States
END:VEVENT
BEGIN:VEVENT
DTSTART;TZID=America/New_York:20220416T080000
DTEND;TZID=America/New_York:20220416T100000
DTSTAMP:20260421T091040
CREATED:20241015T170441Z
LAST-MODIFIED:20241015T170441Z
UID:10015497-1650096000-1650103200@visitwv.com
SUMMARY:Breakfast with the Easter Bunny
DESCRIPTION:Join Hawks Nest State Park as they present Breakfast with the Easter Bunny on Apil 9 and April 16\, 2022\, from 8 am – 10 am.\n7.99 per person plus tax and gratuity. \nThe buffet includes Pancakes\, scrambled eggs\, sausage patties\, biscuits and gravy\, cereal\, muffins\, milk and juice.
URL:https://visitwv.com/event/breakfast-with-the-easter-bunny-2/
LOCATION:Hawks Nest State Park\, US Rt 60\, Ansted\, WV\, 25812\, United States
END:VEVENT
BEGIN:VEVENT
DTSTART;TZID=America/New_York:20220409T080000
DTEND;TZID=America/New_York:20220409T100000
DTSTAMP:20260421T091040
CREATED:20241015T170408Z
LAST-MODIFIED:20241015T170408Z
UID:10015478-1649491200-1649498400@visitwv.com
SUMMARY:Breakfast with the Easter Bunny
DESCRIPTION:Join Hawks Nest State Park as they present Breakfast with the Easter Bunny on Apil 9 and April 16\, 2022\, from 8 am – 10 am.\n7.99 per person plus tax and gratuity. \nThe buffet includes Pancakes\, scrambled eggs\, sausage patties\, biscuits and gravy\, cereal\, muffins\, milk and juice.
URL:https://visitwv.com/event/breakfast-with-the-easter-bunny/
LOCATION:Hawks Nest State Park\, US Rt 60\, Ansted\, WV\, 25812\, United States
END:VEVENT
BEGIN:VEVENT
DTSTART;TZID=America/New_York:20220312T180000
DTEND;TZID=America/New_York:20220312T180000
DTSTAMP:20260421T091040
CREATED:20241015T170203Z
LAST-MODIFIED:20241015T170203Z
UID:10015424-1647108000-1647108000@visitwv.com
SUMMARY:Swinging with Sinatra at Hawks Nest
DESCRIPTION:Swinging with Sinatra is now being offered as Dinner & Show without the whole weekend package. Great deal if you’re interested in just joining for the evening instead of the whole weekend. Weekend packages are still available as well! Call 304-658-5212 (ext 0)\n 
URL:https://visitwv.com/event/swinging-with-sinatra-at-hawks-nest/
LOCATION:Hawks Nest State Park\, US Rt 60\, Ansted\, WV\, 25812\, United States
END:VEVENT
BEGIN:VEVENT
DTSTART;TZID=America/New_York:20220212T170000
DTEND;TZID=America/New_York:20220212T200000
DTSTAMP:20260421T091040
CREATED:20241015T170114Z
LAST-MODIFIED:20250418T161156Z
UID:10015395-1644685200-1644696000@visitwv.com
SUMMARY:Valentine's Dinner at Hawks Nest
DESCRIPTION:Treat your special Someone to dinner at “The Overlook at New River Gorge” located at Hawks Nest State Park on February 12\, 2022\, from 5 pm – 8 pm.\n 
URL:https://visitwv.com/event/valentines-dinner-at-hawks-nest/
LOCATION:Hawks Nest State Park\, US Rt 60\, Ansted\, WV\, 25812\, United States
END:VEVENT
BEGIN:VEVENT
DTSTART;TZID=America/New_York:20211127T160000
DTEND;TZID=America/New_York:20211127T180000
DTSTAMP:20260421T091040
CREATED:20241015T165627Z
LAST-MODIFIED:20241015T165627Z
UID:10015254-1638028800-1638036000@visitwv.com
SUMMARY:Hawks Nest Christmas in the Park
DESCRIPTION:Join us for a hayride through the park.  Free Christmas movies playing in the conference room with free hot chocolate and popcorn. Free crafts for kids.\nSanta will be here from 5:00 pm-6:00 pm and the Christmas lights will be turned on at 6:00 pm \nParty Palooza will be here with Animaland Adventures Build-A-Buddy Small Stuffed Animals $15 Large Stuffed Animals $25 \nCanyon View Gift Shop at the Lodge will be open until 7 pm and offering a 20% discount from 5 pm-7 pm (Excludes Alcohol & food) \nChristmas Shoppe Open House from 10 am-4:30 pm Historic Area at the lower park. \nDrawings/prizes from 11 am- 3 pm (Need not be present to win) \nChristmas Characters onsite! \n$3.00 for Children\n$6:00 for Adults\nDonations go to Hawks Nest Foundation
URL:https://visitwv.com/event/hawks-nest-christmas-in-the-park/
LOCATION:Hawks Nest State Park\, US Rt 60\, Ansted\, WV\, 25812\, United States
END:VEVENT
BEGIN:VEVENT
DTSTART;TZID=America/New_York:20211023T120000
DTEND;TZID=America/New_York:20211023T140000
DTSTAMP:20260421T091040
CREATED:20241015T165435Z
LAST-MODIFIED:20241015T165435Z
UID:10015193-1634990400-1634997600@visitwv.com
SUMMARY:A Hawks Nest Halloween
DESCRIPTION:Come and join us next Saturday for a fun-filled\, “Spooktacular” event for all ages.\n\n\nSaturday\, October 23rd from 12 pm – 2 pm
URL:https://visitwv.com/event/a-hawks-nest-halloween/
LOCATION:Hawks Nest State Park\, US Rt 60\, Ansted\, WV\, 25812\, United States
END:VEVENT
BEGIN:VEVENT
DTSTART;TZID=America/New_York:20210522T090000
DTEND;TZID=America/New_York:20210522T140000
DTSTAMP:20260421T091040
CREATED:20241015T164556Z
LAST-MODIFIED:20241015T164556Z
UID:10014900-1621674000-1621692000@visitwv.com
SUMMARY:Flea Market at Hawks Nest State Park
DESCRIPTION:Springtime is flea market time. Hawks Nest State Park is hosting a flea market on Saturday\, April 24\, from 9:00 a.m. until 2:00 p.m. If you’re out and about\, stop by to visit with vendors in the bottom parking lot at Hawks Nest Lodge and shop for cool and interesting finds. If you’d like to set up as a vendor\, please call 304.658.5196 ext 1565.\nVendors may start setting up at 7:00 a.m. There is a fee to claim a space. Advance payment is $20 for a 17’x18′ space. The flea market is a no electric\, no generator venue. Overflow spaces will be located at Fresh Fountain Family Worship Center. Some other vendor notes of interest: vendors must provide their own tables\, chairs\, and canopy. Place trash in the receptacle provided. Vendors are responsible for the removal of all items that you come with and required to have your booth open until 2:00 p.m. Vendors must be set up prior to 9:00 a.m. After that time. there is no driving into the market area. All CDC guidelines will be observed by vendors and visitors. The sale of guns\, fireworks\, alcoholic beverages\, pornographic material\, counterfeit merchandise\, pets\, livestock\, tobacco\, ammo\, vehicles\, including all-terrain vehicles and motorcycles are prohibited.
URL:https://visitwv.com/event/flea-market-at-hawks-nest-state-park/
LOCATION:Hawks Nest State Park\, US Rt 60\, Ansted\, WV\, 25812\, United States
END:VEVENT
BEGIN:VEVENT
DTSTART;TZID=America/New_York:20210404T070000
DTEND;TZID=America/New_York:20210404T070000
DTSTAMP:20260421T091040
CREATED:20241015T164433Z
LAST-MODIFIED:20241015T164433Z
UID:10014850-1617519600-1617519600@visitwv.com
SUMMARY:Easter Activities at Hawks Nest State Park
DESCRIPTION:April 4\, 2021\nSunrise Service is at 7:00 a.m. at the Lower Park (historic area) pavilion. \nReserve lodging online: \nBOOK NOW
URL:https://visitwv.com/event/easter-activities-at-hawks-nest-state-park-2/
LOCATION:Hawks Nest State Park\, US Rt 60\, Ansted\, WV\, 25812\, United States
END:VEVENT
BEGIN:VEVENT
DTSTART;TZID=America/New_York:20210403T110000
DTEND;TZID=America/New_York:20210403T153000
DTSTAMP:20260421T091040
CREATED:20241015T164433Z
LAST-MODIFIED:20241015T164433Z
UID:10014848-1617447600-1617463800@visitwv.com
SUMMARY:Easter Activities at Hawks Nest State Park
DESCRIPTION:Easter Egg Hunt at 12:00 p.m. on the main lawn at Hawks Nest State Park Lodge.Prizes for each age group: 0-4\, 5-8\, 9-12\nThis year’s egg hunt is sponsored by Fresh Fountain Family Worship Center. \nThere will be a special appearance and photo op with the Easter Bunny! \n“Cherry On Top” ice cream truck will be selling ice cream from 11:30 a.m. – 3:00 p.m.
URL:https://visitwv.com/event/easter-activities-at-hawks-nest-state-park/
LOCATION:Hawks Nest State Park\, US Rt 60\, Ansted\, WV\, 25812\, United States
END:VEVENT
BEGIN:VEVENT
DTSTART;TZID=America/New_York:20200314T180000
DTEND;TZID=America/New_York:20200314T220000
DTSTAMP:20260421T091040
CREATED:20241015T163733Z
LAST-MODIFIED:20241015T163733Z
UID:10014584-1584208800-1584223200@visitwv.com
SUMMARY:Murder Mystery Dinner Theater-Hawk's Nest
DESCRIPTION:“Murder on The Mountain” Dinner Theatre. It is 1933\, and a group of Guests stay at a mountain inn. When a desperate mountain man attempts to rob the guests one morning . . .. Dinner @ 6:00PM in Vista Restaurant -Theatre 7:00PM in conference room. Promote overnight package with dinner and theatre starting at $174.00.
URL:https://visitwv.com/event/murder-mystery-dinner-theater-hawks-nest/
LOCATION:Hawks Nest State Park\, US Rt 60\, Ansted\, WV\, 25812\, United States
END:VEVENT
END:VCALENDAR