BEGIN:VCALENDAR
VERSION:2.0
PRODID:-//Visit Southern West Virginia - ECPv6.15.13//NONSGML v1.0//EN
CALSCALE:GREGORIAN
METHOD:PUBLISH
X-ORIGINAL-URL:https://visitwv.com
X-WR-CALDESC:Events for Visit Southern West Virginia
REFRESH-INTERVAL;VALUE=DURATION:PT1H
X-Robots-Tag:noindex
X-PUBLISHED-TTL:PT1H
BEGIN:VTIMEZONE
TZID:America/New_York
BEGIN:DAYLIGHT
TZOFFSETFROM:-0500
TZOFFSETTO:-0400
TZNAME:EDT
DTSTART:20250309T070000
END:DAYLIGHT
BEGIN:STANDARD
TZOFFSETFROM:-0400
TZOFFSETTO:-0500
TZNAME:EST
DTSTART:20251102T060000
END:STANDARD
BEGIN:DAYLIGHT
TZOFFSETFROM:-0500
TZOFFSETTO:-0400
TZNAME:EDT
DTSTART:20260308T070000
END:DAYLIGHT
BEGIN:STANDARD
TZOFFSETFROM:-0400
TZOFFSETTO:-0500
TZNAME:EST
DTSTART:20261101T060000
END:STANDARD
BEGIN:DAYLIGHT
TZOFFSETFROM:-0500
TZOFFSETTO:-0400
TZNAME:EDT
DTSTART:20270314T070000
END:DAYLIGHT
BEGIN:STANDARD
TZOFFSETFROM:-0400
TZOFFSETTO:-0500
TZNAME:EST
DTSTART:20271107T060000
END:STANDARD
BEGIN:DAYLIGHT
TZOFFSETFROM:-0500
TZOFFSETTO:-0400
TZNAME:EDT
DTSTART:20280312T070000
END:DAYLIGHT
BEGIN:STANDARD
TZOFFSETFROM:-0400
TZOFFSETTO:-0500
TZNAME:EST
DTSTART:20281105T060000
END:STANDARD
END:VTIMEZONE
BEGIN:VEVENT
DTSTART;TZID=America/New_York:20260516T190000
DTEND;TZID=America/New_York:20260516T190000
DTSTAMP:20260425T221443
CREATED:20260423T201016Z
LAST-MODIFIED:20260423T201016Z
UID:10018342-1778958000-1778958000@visitwv.com
SUMMARY:Chuck Mathena Center Presents: Purple Madness
DESCRIPTION:“Purple Madness” is the ultimate celebration of the most widely beloved entertainer and profoundly influential artist of all-time. Bobby Miller presents an electrifying performance that can be best described as\, high energy and a “must see” performance.\n \nThe Prince Purple Madness Tribute Show have all but perfected every last nuance in recreating the sights and sounds of the artist Prince.\n \nIt is with great honor and utmost reverence that The Prince Tribute Band was formed. For anyone who wasn’t fortunate enough to have witnessed Prince live show\, the experience was undeniably one of the best live performances on the planet. It was with this idea in mind that Bobby Miller chose to re-create some of Prince most memorable concert moments. The Production team consist of Bobby Miller as the artist\, backed by some of the most talented dancers and musicians that have toured the US and abroad. Collectively\, the team consists of over a 100 years of music experience. The group lovingly describes their show as a performance that is second to none.
URL:https://visitwv.com/event/chuck-mathena-center-presents-purple-madness/
LOCATION:Chuck Mathena Center\, 2 Stafford Commons\, Princeton\, WV 24740\, USA\, Princeton\, West Virginia\, United States
CATEGORIES:Mercer
GEO:37.3621797;-81.0971149
X-APPLE-STRUCTURED-LOCATION;VALUE=URI;X-ADDRESS=Chuck Mathena Center 2 Stafford Commons Princeton WV 24740 USA Princeton West Virginia United States;X-APPLE-RADIUS=500;X-TITLE=2 Stafford Commons\, Princeton\, WV 24740\, USA:geo:-81.0971149,37.3621797
END:VEVENT
BEGIN:VEVENT
DTSTART;TZID=America/New_York:20260613T190000
DTEND;TZID=America/New_York:20260613T190000
DTSTAMP:20260425T221443
CREATED:20260423T201354Z
LAST-MODIFIED:20260423T201354Z
UID:10018343-1781377200-1781377200@visitwv.com
SUMMARY:Second Helping: The American Lynyrd Skynyrd Show
DESCRIPTION:Second Helping: The Original Lynyrd Skynyrd Tribute is the longest-running Lynyrd Skynyrd tribute band in the world\, dedicated to delivering the music of Skynyrd as fans remember it. Formed in 1988 in Jacksonville\, Florida\, the band was born out of guitarist Chris McCallister’s friendship with Lynyrd Skynyrd guitarist Ed King. During a rehearsal at Skynyrd’s studio\, McCallister inquired about the band’s touring plans\, which inspired the creation of Second Helping to keep the music alive. \nThe band has received endorsements from members of Lynyrd Skynyrd\, with several Skynyrd members\, including Ed King and Randall Hall\, collaborating with Second Helping on specific parts. Notably\, Chris McCallister (guitar) and Rick King (bass) played in the post-Skynyrd reunion tour band\, The Randall Hall Band\, in 1987. \nSecond Helping continues to perform\, bringing the classic Southern rock sound to audiences. If you’re interested in experiencing the authentic sound of Lynyrd Skynyrd\, Second Helping offers a performance that captures the spirit and energy of the original band.
URL:https://visitwv.com/event/second-helping-the-american-lynyrd-skynyrd-show/
LOCATION:Chuck Mathena Center\, 2 Stafford Commons\, Princeton\, WV 24740\, USA\, Princeton\, West Virginia\, United States
CATEGORIES:Mercer
GEO:37.3621797;-81.0971149
X-APPLE-STRUCTURED-LOCATION;VALUE=URI;X-ADDRESS=Chuck Mathena Center 2 Stafford Commons Princeton WV 24740 USA Princeton West Virginia United States;X-APPLE-RADIUS=500;X-TITLE=2 Stafford Commons\, Princeton\, WV 24740\, USA:geo:-81.0971149,37.3621797
END:VEVENT
BEGIN:VEVENT
DTSTART;TZID=America/New_York:20260625T193000
DTEND;TZID=America/New_York:20260625T193000
DTSTAMP:20260425T221443
CREATED:20260423T201604Z
LAST-MODIFIED:20260423T201604Z
UID:10018344-1782415800-1782415800@visitwv.com
SUMMARY:BTE Presents: Silver Stallion
DESCRIPTION:Silver Stallion brings the legendary sound of The Highwaymen back to the stage\, honoring the iconic music of Willie Nelson\, Waylon Jennings\, Johnny Cash\, and Kris Kristofferson. With authentic vocals\, tight musicianship\, and the unmistakable outlaw spirit\, this tribute captures the heart of a generation. \nJeff Tankersley embodies Johnny Cash with a booming baritone and commanding presence that makes audiences feel like they are in the room with the Man in Black. Frank Perry channels Waylon Jennings with more than 40 years of experience and a deep rooted connection to the outlaw sound. Larry Walsh brings Willie Nelson’s laid back charm and phrasing to life\, a tribute that began decades ago with an uncanny vocal resemblance. Alan Tedders steps into the role of Kris Kristofferson\, delivering the poetic storytelling and rugged honesty that defined his music. \nTogether\, Silver Stallion delivers the timeless hits\, rich harmonies\, and larger than life energy that made The Highwaymen unforgettable.
URL:https://visitwv.com/event/bte-presents-silver-stallion/
LOCATION:Chuck Mathena Center\, 2 Stafford Commons\, Princeton\, WV 24740\, USA\, Princeton\, West Virginia\, United States
CATEGORIES:Mercer
GEO:37.3621797;-81.0971149
X-APPLE-STRUCTURED-LOCATION;VALUE=URI;X-ADDRESS=Chuck Mathena Center 2 Stafford Commons Princeton WV 24740 USA Princeton West Virginia United States;X-APPLE-RADIUS=500;X-TITLE=2 Stafford Commons\, Princeton\, WV 24740\, USA:geo:-81.0971149,37.3621797
END:VEVENT
BEGIN:VEVENT
DTSTART;TZID=America/New_York:20261119T190000
DTEND;TZID=America/New_York:20261119T190000
DTSTAMP:20260425T221443
CREATED:20260423T201857Z
LAST-MODIFIED:20260423T201857Z
UID:10018345-1795114800-1795114800@visitwv.com
SUMMARY:World Ballet Company: The Nutcracker with a Live Orchestra
DESCRIPTION:The Holiday Magic Begins Here — With a LIVE Orchestra.\n\nThis holiday season\, experience The Nutcracker like never before. \nFeaturing a live orchestra\, 40 world-class dancers\, over 150 sparkling hand-sewn costumes\, and lavish hand-crafted sets\, World Ballet Company’s The Nutcracker is a breathtaking holiday spectacle for all ages. \nFollow Marie on a magical Christmas Eve journey as her beloved Nutcracker comes to life\, sweeping her into a dreamworld of swirling snowflakes\, battling mice\, and the dazzling Kingdom of Sweets. \nCreate unforgettable holiday memories and share the wonder of a timeless classic with the whole family. \nDuration: 1hr 40 min (including 20-minute intermission)\nAudience: 2+\nWBC Website: https://worldballetcompany.com/princeton \nWorld Ballet Company – Ballet Everywhere\, Ballet For All. \n*About the Company: Based in Los Angeles\, and led by Sasha Gorskaya and Gulya Hartwick\, World Ballet Company presents the most beloved and iconic ballets of our time in cities nationwide. Driven by the belief that ballet is for everyone\, performances appeal to newcomers and seasoned ballet goers alike. The company attracts many international artists and comprises renowned professional dancers representing over ten countries. \nTo date\, World Ballet Company has traveled to more than 300 cities\, reaching an audience of more than 500\,000 fans. \nMake it a group experience! Special pricing is available for groups of 10 or more: worldballetcompany.com/group-tickets.
URL:https://visitwv.com/event/world-ballet-company-the-nutcracker-with-a-live-orchestra/
LOCATION:Chuck Mathena Center\, 2 Stafford Commons\, Princeton\, WV 24740\, USA\, Princeton\, West Virginia\, United States
CATEGORIES:Mercer
GEO:37.3621797;-81.0971149
X-APPLE-STRUCTURED-LOCATION;VALUE=URI;X-ADDRESS=Chuck Mathena Center 2 Stafford Commons Princeton WV 24740 USA Princeton West Virginia United States;X-APPLE-RADIUS=500;X-TITLE=2 Stafford Commons\, Princeton\, WV 24740\, USA:geo:-81.0971149,37.3621797
END:VEVENT
BEGIN:VEVENT
DTSTART;TZID=America/New_York:20270126T190000
DTEND;TZID=America/New_York:20270126T190000
DTSTAMP:20260425T221443
CREATED:20260420T173547Z
LAST-MODIFIED:20260420T173547Z
UID:10018333-1800990000-1800990000@visitwv.com
SUMMARY:The Music of Hans Zimmer & Others- Live in Concert
DESCRIPTION:Presented by a Pirate from Pirates of the Caribbean!\nExperience the symphonic world of Hans Zimmer with music from James Bond\, The Lion King\, The Pirates of the Caribbean\, Gladiator\, The Dark Knight\, Inception\, Interstellar\, Top Gun\, Dune and more!\n“The Music of Hans Zimmer & Others” is an unforgettable concert and audiovisual experience for all age groups\, film enthusiasts\, music lovers\, and families. The best music will be performed by the Hollywood Film Orchestra in an impressive show with light installations\, laser projections\, and selected film clips. Star soloists from the Original Broadway Production will perform excerpts from “The Lion King”\, Zimmer’s most beloved box office smash hit.\nNo other composer has influenced the film world in the past two decades as much as the Oscar-\, Globe- and Emmy-winning composer Hans Zimmer with his staggering compositions for films such as “James Bond”\, “The Lion King”\, “Pirates of the Caribbean”\, “Gladiator”\, “The Dark Knight”\, “Man of Steel”\, “Inception”\, and “Interstellar”.\nMeet the Star! Enjoy the only film music concert series in the world with a presenter from the films! Our special guest will not only present the best music of Hans Zimmer but will also be available for a free picture with you if you purchase your tickets today.\nHans Zimmer™ is a registered trademark of their respective owners. This concert is an independent event\, unaffiliated with and not endorsed by the studios\, production companies\, or trademark holders involved.
URL:https://visitwv.com/event/the-music-of-hans-zimmer-others-live-in-concert/
LOCATION:Chuck Mathena Center\, 2 Stafford Commons\, Princeton\, WV 24740\, USA\, Princeton\, West Virginia\, United States
CATEGORIES:Mercer
GEO:37.3621797;-81.0971149
X-APPLE-STRUCTURED-LOCATION;VALUE=URI;X-ADDRESS=Chuck Mathena Center 2 Stafford Commons Princeton WV 24740 USA Princeton West Virginia United States;X-APPLE-RADIUS=500;X-TITLE=2 Stafford Commons\, Princeton\, WV 24740\, USA:geo:-81.0971149,37.3621797
END:VEVENT
END:VCALENDAR