BEGIN:VCALENDAR
VERSION:2.0
PRODID:-//Visit Southern West Virginia - ECPv6.15.13//NONSGML v1.0//EN
CALSCALE:GREGORIAN
METHOD:PUBLISH
X-ORIGINAL-URL:https://visitwv.com
X-WR-CALDESC:Events for Visit Southern West Virginia
REFRESH-INTERVAL;VALUE=DURATION:PT1H
X-Robots-Tag:noindex
X-PUBLISHED-TTL:PT1H
BEGIN:VTIMEZONE
TZID:America/New_York
BEGIN:DAYLIGHT
TZOFFSETFROM:-0500
TZOFFSETTO:-0400
TZNAME:EDT
DTSTART:20250309T070000
END:DAYLIGHT
BEGIN:STANDARD
TZOFFSETFROM:-0400
TZOFFSETTO:-0500
TZNAME:EST
DTSTART:20251102T060000
END:STANDARD
BEGIN:DAYLIGHT
TZOFFSETFROM:-0500
TZOFFSETTO:-0400
TZNAME:EDT
DTSTART:20260308T070000
END:DAYLIGHT
BEGIN:STANDARD
TZOFFSETFROM:-0400
TZOFFSETTO:-0500
TZNAME:EST
DTSTART:20261101T060000
END:STANDARD
BEGIN:DAYLIGHT
TZOFFSETFROM:-0500
TZOFFSETTO:-0400
TZNAME:EDT
DTSTART:20270314T070000
END:DAYLIGHT
BEGIN:STANDARD
TZOFFSETFROM:-0400
TZOFFSETTO:-0500
TZNAME:EST
DTSTART:20271107T060000
END:STANDARD
END:VTIMEZONE
BEGIN:VEVENT
DTSTART;TZID=America/New_York:20260206T130000
DTEND;TZID=America/New_York:20260207T170000
DTSTAMP:20260424T042402
CREATED:20251114T161302Z
LAST-MODIFIED:20251117T201905Z
UID:10017616-1770382800-1770483600@visitwv.com
SUMMARY:Hunting & Fishing Show
DESCRIPTION:105.9 WTNJ Hunting & Fishing Show combined with the Southern WV HBA Home & Leisure Show!February 6\, 2026 – 1:00pm – 7:00pmFebruary 7\, 2026 – 10:00am – 5:00pm$5.00 entry fee — children 12 and are freeLocation – Beckley Raleigh County Convention Center \n\n\n\nContact Beth Reger\, GM of Southern Communications for booth reservation and general informationbreger@southernwvmedia.com \n\n\n\nhttps://wtnjbuckphotocontest.com/
URL:https://visitwv.com/event/hunting-fishing-show/
LOCATION:Beckley-Raleigh County Convention Center\, 200 Armory Drive\, Beckley\, WV 25801\, USA
CATEGORIES:Beckley-Raleigh
GEO:37.7791393;-81.1626421
X-APPLE-STRUCTURED-LOCATION;VALUE=URI;X-ADDRESS=Beckley-Raleigh County Convention Center 200 Armory Drive Beckley WV 25801 USA;X-APPLE-RADIUS=500;X-TITLE=200 Armory Drive\, Beckley\, WV 25801\, USA:geo:-81.1626421,37.7791393
END:VEVENT
BEGIN:VEVENT
DTSTART;TZID=America/New_York:20260221T000000
DTEND;TZID=America/New_York:20260221T235959
DTSTAMP:20260424T042402
CREATED:20251118T165316Z
LAST-MODIFIED:20251118T165320Z
UID:10017693-1771632000-1771718399@visitwv.com
SUMMARY:Cabin Fever 50K Race
DESCRIPTION:Looking for a burley\, winter run? Toe the starting line and test yourself against the elements on this 50K point-to-point ultra across New River Gorge National Park in the depths of winter. Starting in downtown Fayetteville and making your way to the finish at Hawks Nest State Park\, this route has a little bit of everything. Enjoy expansive views on high ridgeline single-track\, pass waterfalls\, and drop down to the banks of the New River just underneath the New River Gorge Bridge. Sharing much of the Rim to River 100 course\, the Cabin Fever 50K can be the perfect training run while also providing a whole new winter trail running experience. Join us for the original winter ultra in New River Gorge National Park!
URL:https://visitwv.com/event/cabin-fever-50k-race/
LOCATION:New River Gorge National Park and Preserve\, 104 Main Street\, Glen Jean\, West Virginia\, 25846
CATEGORIES:Fayette
ORGANIZER;CN="ACE Adventure Resort":MAILTO:ace@aceraft.com
END:VEVENT
END:VCALENDAR