BEGIN:VCALENDAR
VERSION:2.0
PRODID:-//Visit Southern West Virginia - ECPv6.15.13//NONSGML v1.0//EN
CALSCALE:GREGORIAN
METHOD:PUBLISH
X-ORIGINAL-URL:https://visitwv.com
X-WR-CALDESC:Events for Visit Southern West Virginia
REFRESH-INTERVAL;VALUE=DURATION:PT1H
X-Robots-Tag:noindex
X-PUBLISHED-TTL:PT1H
BEGIN:VTIMEZONE
TZID:America/New_York
BEGIN:DAYLIGHT
TZOFFSETFROM:-0500
TZOFFSETTO:-0400
TZNAME:EDT
DTSTART:20240310T070000
END:DAYLIGHT
BEGIN:STANDARD
TZOFFSETFROM:-0400
TZOFFSETTO:-0500
TZNAME:EST
DTSTART:20241103T060000
END:STANDARD
BEGIN:DAYLIGHT
TZOFFSETFROM:-0500
TZOFFSETTO:-0400
TZNAME:EDT
DTSTART:20250309T070000
END:DAYLIGHT
BEGIN:STANDARD
TZOFFSETFROM:-0400
TZOFFSETTO:-0500
TZNAME:EST
DTSTART:20251102T060000
END:STANDARD
BEGIN:DAYLIGHT
TZOFFSETFROM:-0500
TZOFFSETTO:-0400
TZNAME:EDT
DTSTART:20260308T070000
END:DAYLIGHT
BEGIN:STANDARD
TZOFFSETFROM:-0400
TZOFFSETTO:-0500
TZNAME:EST
DTSTART:20261101T060000
END:STANDARD
END:VTIMEZONE
BEGIN:VEVENT
DTSTART;TZID=America/New_York:20250716T080000
DTEND;TZID=America/New_York:20250720T170000
DTSTAMP:20260420T084905
CREATED:20250715T153108Z
LAST-MODIFIED:20251113T204531Z
UID:10017292-1752652800-1753030800@visitwv.com
SUMMARY:Queerclimbtastic rock climbing festival
DESCRIPTION:Here’s the full schedule\, including affinity spaces and social outings. Be sure to sign up for affinity spaces on our website so we can plan for each group and create welcoming\, intentional environments.  \n\n\n\n Affinity Spaces \n\n\n\nThursday 7/17 \n\n\n\n POC Meetup– 9am\, led by @k_v_n20 \n\n\n\n Trans & Nonbinary Meetup– 1pm\, led by @feet2.0 \n\n\n\nFriday 7/18 \n\n\n\n Ladies & Theydies– 9am\, led by @kc__nguyen \n\n\n\n Bouldering Meetup– 1pm\, led by @jayjayvuu \n\n\n\n— \n\n\n\n Social Outings \n\n\n\n 7/16 – 7pm: @secret_sandwich_society \n\n\n\n 7/17 – 7pm: @piesandpints \n\n\n\n 7/18 – 6pm: Social at @waterstoneoutdoors \n\n\n\n 7/18– 8pm: Pride Party @southsidejunctiontap & optional Line Dancing at campground \n\n\n\n 7/19– 9pm: Drag Show & Silent Auction \n\n\n\n 7/20– 11am: Trail Day  \n\n\n\n— \n\n\n\n RSVP for affinity spaces and learn more at Queerclimbtastic.org. Let’s make this the most affirming\, joyful\, and queer-tastic climb yet!
URL:https://visitwv.com/event/queerclimbtastic-rock-climbing-festival/
LOCATION:Cantrell Ultimate Rafting\,\, 49 Cantrell Dr.\, Fayetteville\, WV\, 25840\, United States
CATEGORIES:Fayette
ORGANIZER;CN="Queerclimbtastic":MAILTO:info@queerclimbtastic.org
GEO:38.0427343;-81.0982955
X-APPLE-STRUCTURED-LOCATION;VALUE=URI;X-ADDRESS=Cantrell Ultimate Rafting 49 Cantrell Dr. Fayetteville WV 25840 United States;X-APPLE-RADIUS=500;X-TITLE=49 Cantrell Dr.:geo:-81.0982955,38.0427343
END:VEVENT
BEGIN:VEVENT
DTSTART;TZID=America/New_York:20250718T080000
DTEND;TZID=America/New_York:20250720T170000
DTSTAMP:20260420T084905
CREATED:20250710T181925Z
LAST-MODIFIED:20250710T181929Z
UID:10017282-1752825600-1753030800@visitwv.com
SUMMARY:Appalachian Shakespeare Project at Pipestem Resort State Park
DESCRIPTION:Weekend #12 of the summer long celebration at Pipestem Resort State Parks’ 55th year of service to the people of West Virginia. \n\n\n\nOnce again the Appalachian Shakespeare Project from Concord University will grace Pipestem Resort State Park with three days of performances during this July weekend. Appalachian Shakespeare Project is a community theater organization founded in the summer of 2010 to present actor and audience focused outdoor performances of Shakespeare’s plays in order to provide the community with an enjoyable and educational theater experience. \n\n\n\nAll three shows are free and open to the community. \n\n\n\nFor more details\, please call Pipestem Resort State Park at (304) 207-4845.
URL:https://visitwv.com/event/appalachian-shakespeare-project-at-pipestem-resort-state-park/
LOCATION:Pipestem Resort State Park\, Pipestem Resort State Park\, 3405 Pipestem Drive\, Pipestem\, WV 25979\, USA\, Pipestem\, West Virginia\, United States
CATEGORIES:Summers
GEO:37.5324;-80.994
X-APPLE-STRUCTURED-LOCATION;VALUE=URI;X-ADDRESS=Pipestem Resort State Park Pipestem Resort State Park 3405 Pipestem Drive Pipestem WV 25979 USA Pipestem West Virginia United States;X-APPLE-RADIUS=500;X-TITLE=Pipestem Resort State Park\, 3405 Pipestem Drive\, Pipestem\, WV 25979\, USA:geo:-80.994,37.5324
END:VEVENT
BEGIN:VEVENT
DTSTART;TZID=America/New_York:20250718T113000
DTEND;TZID=America/New_York:20250718T130000
DTSTAMP:20260420T084905
CREATED:20250610T130826Z
LAST-MODIFIED:20251117T224842Z
UID:10017224-1752838200-1752843600@visitwv.com
SUMMARY:Fridays in the Park at Word Park in Beckley
DESCRIPTION:The weekly event offers live music from local artists\, food trucks\, and great lunchtime vibes. it’s summertime on Fridays to come out during your lunch hour between 11:30 and 1pm. We have free music concerts and a food truck or two
URL:https://visitwv.com/event/fridays-in-the-park-at-word-park-in-beckley/2025-07-18/
LOCATION:Word Park\, Downtown Beckley\, Neville Street\, Beckley\, WV 25801\, USA
CATEGORIES:Beckley-Raleigh
GEO:37.7756165;-81.1916835
X-APPLE-STRUCTURED-LOCATION;VALUE=URI;X-ADDRESS=Word Park Downtown Beckley Neville Street Beckley WV 25801 USA;X-APPLE-RADIUS=500;X-TITLE=Neville Street\, Beckley\, WV 25801\, USA:geo:-81.1916835,37.7756165
END:VEVENT
BEGIN:VEVENT
DTSTART;TZID=America/New_York:20250718T180000
DTEND;TZID=America/New_York:20250718T220000
DTSTAMP:20260420T084905
CREATED:20250506T191758Z
LAST-MODIFIED:20250506T191800Z
UID:10017158-1752861600-1752876000@visitwv.com
SUMMARY:Raleigh County Live 25! at Lake Stephens (Classic Rock & Bluegrass)
DESCRIPTION:18 July 2025 – (Classic Rock & Bluegrass)  \n\n\n\nJim Snyder \n\n\n\nJC Square \n\n\n\nChris Harris & Legion of Salty Dogs \n\n\n\nLong Point String Band \n\n\n\n*Lacy Farmer (Collaborative School of the Arts)* \n\n\n\nProducer: Jim Snyder
URL:https://visitwv.com/event/raleigh-county-live-25-at-lake-stephens-classic-rock-bluegrass/
LOCATION:Lake Stephens Event Center\, 1400 Lake Stephens Road\, Beckley\, West Virginia\, 25801\, United States
CATEGORIES:Beckley-Raleigh
ORGANIZER;CN="Raleigh County Parks and Recreation Authority":MAILTO:parksandrec@ralieghcounty.com
END:VEVENT
BEGIN:VEVENT
DTSTART;TZID=America/New_York:20250718T190000
DTEND;TZID=America/New_York:20250718T200000
DTSTAMP:20260420T084905
CREATED:20250428T192006Z
LAST-MODIFIED:20250428T192008Z
UID:10017136-1752865200-1752868800@visitwv.com
SUMMARY:"Wings of Wonder: WV Birds of Prey" at Camp Creek State Park and Forest
DESCRIPTION:Our “Wings of Wonder: WV Birds of Prey” program is coming to Camp Creek State Park & Forest on July 18\, 2025 at 7 PM! The event is free\, open to the public and great for all ages. Come meet 6 native WV Raptor Ambassadors close up\, including live owls\, falcons\, hawk and our bald eagle Regis. Learn about the habitats they live in\, the foods they eat\, their unique abilities and the dangers they face. Pick up pro-active tips for helping wild birds and get a chance to ask questions during this award-winning interactive program. Meet at the Earlie Moon Shelter.
URL:https://visitwv.com/event/wings-of-wonder-wv-birds-of-prey-at-camp-creek-state-park-and-forest/
LOCATION:Camp Creek State Park & Forest\, 2390 Co Hwy 19/5\, Camp Creek\, WV 25820\, USA\, Camp Creek\, West Virginia\, United States
CATEGORIES:Mercer
GEO:37.505297;-81.133109
X-APPLE-STRUCTURED-LOCATION;VALUE=URI;X-ADDRESS=Camp Creek State Park & Forest 2390 Co Hwy 19/5 Camp Creek WV 25820 USA Camp Creek West Virginia United States;X-APPLE-RADIUS=500;X-TITLE=2390 Co Hwy 19/5\, Camp Creek\, WV 25820\, USA:geo:-81.133109,37.505297
END:VEVENT
BEGIN:VEVENT
DTSTART;TZID=America/New_York:20250718T190000
DTEND;TZID=America/New_York:20250718T220000
DTSTAMP:20260420T084905
CREATED:20250326T134413Z
LAST-MODIFIED:20250326T134416Z
UID:10017040-1752865200-1752876000@visitwv.com
SUMMARY:Theatre West Virginia: Into the Woods
DESCRIPTION:Into the Woods is a mash-up of classic fairy tale stories. Featuring Cinderella\, Jack and the Beanstalk\, Rapunzel\, and Little Red Riding Hood\, the characters’ stories intertwine as all the characters try their best to have their own happily ever after while on a journey of self-discovery.
URL:https://visitwv.com/event/theatre-west-virginia-into-the-woods/2025-07-18/
LOCATION:Cliffside Amphitheatre – Grandview – NRG National Park\, 4700 Grandview Rd\, Beaver\, WV\, 25813\, United States
CATEGORIES:Beckley-Raleigh
ORGANIZER;CN="Theatre West Virginia":MAILTO:theatrewv62@gmail.com
GEO:37.831669;-81.064862
X-APPLE-STRUCTURED-LOCATION;VALUE=URI;X-ADDRESS=Cliffside Amphitheatre – Grandview – NRG National Park 4700 Grandview Rd Beaver WV 25813 United States;X-APPLE-RADIUS=500;X-TITLE=4700 Grandview Rd:geo:-81.064862,37.831669
END:VEVENT
BEGIN:VEVENT
DTSTART;TZID=America/New_York:20250718T193000
DTEND;TZID=America/New_York:20250718T213000
DTSTAMP:20260420T084905
CREATED:20250716T163332Z
LAST-MODIFIED:20250716T163338Z
UID:10017295-1752867000-1752874200@visitwv.com
SUMMARY:American Pro Wresting at Bridge Brew Works
DESCRIPTION:American Pro Wrestling is back! Come on out for beer and wrasslin’. We’ll have a food truck on site\, as well—Cast Iron Smoker. Tickets will be on sale at the door—$10/person.
URL:https://visitwv.com/event/american-pro-wresting-at-bridge-brew-works/
LOCATION:Bridge Brew Works\, 335 Nick Rahall Greenway\, Fayetteville\,\, WV\, 25840\, United States
CATEGORIES:Fayette
END:VEVENT
END:VCALENDAR